BEGIN:VCALENDAR
VERSION:2.0
PRODID:-//National Waste &amp; Recycling Association - ECPv6.15.20//NONSGML v1.0//EN
CALSCALE:GREGORIAN
METHOD:PUBLISH
X-WR-CALNAME:National Waste &amp; Recycling Association
X-ORIGINAL-URL:https://wasterecycling.org
X-WR-CALDESC:Events for National Waste &amp; Recycling Association
REFRESH-INTERVAL;VALUE=DURATION:PT1H
X-Robots-Tag:noindex
X-PUBLISHED-TTL:PT1H
BEGIN:VTIMEZONE
TZID:America/New_York
BEGIN:DAYLIGHT
TZOFFSETFROM:-0500
TZOFFSETTO:-0400
TZNAME:EDT
DTSTART:20250309T070000
END:DAYLIGHT
BEGIN:STANDARD
TZOFFSETFROM:-0400
TZOFFSETTO:-0500
TZNAME:EST
DTSTART:20251102T060000
END:STANDARD
BEGIN:DAYLIGHT
TZOFFSETFROM:-0500
TZOFFSETTO:-0400
TZNAME:EDT
DTSTART:20260308T070000
END:DAYLIGHT
BEGIN:STANDARD
TZOFFSETFROM:-0400
TZOFFSETTO:-0500
TZNAME:EST
DTSTART:20261101T060000
END:STANDARD
BEGIN:DAYLIGHT
TZOFFSETFROM:-0500
TZOFFSETTO:-0400
TZNAME:EDT
DTSTART:20270314T070000
END:DAYLIGHT
BEGIN:STANDARD
TZOFFSETFROM:-0400
TZOFFSETTO:-0500
TZNAME:EST
DTSTART:20271107T060000
END:STANDARD
END:VTIMEZONE
BEGIN:VEVENT
DTSTART;TZID=America/New_York:20260422T100000
DTEND;TZID=America/New_York:20260422T140000
DTSTAMP:20260419T205604
CREATED:20260415T065958Z
LAST-MODIFIED:20260415T065959Z
UID:11770-1776852000-1776866400@wasterecycling.org
SUMMARY:Earth Day Take-Back Event @ National Landing
DESCRIPTION:Join us in Arlington\, VA\, at the National Landing BID Community Cleanup for a free battery take-back event with Woodsy Owl! Bring the whole family to learn about battery safety\, proper disposal\, and the simple steps you can take to keep your community safe from battery fires.
URL:https://wasterecycling.org/event/earth-day-take-back-event-national-landing/
LOCATION:Crystal City Water Park – Arlington\, VA
ATTACH;FMTTYPE=image/webp:https://wasterecycling.org/wp-content/uploads/2025/09/woodsy-owl.webp
END:VEVENT
BEGIN:VEVENT
DTSTART;TZID=America/New_York:20260425T100000
DTEND;TZID=America/New_York:20260425T140000
DTSTAMP:20260419T205604
CREATED:20260414T201602Z
LAST-MODIFIED:20260414T201603Z
UID:11772-1777111200-1777125600@wasterecycling.org
SUMMARY:Woodsy x Streamwood Environmental Education Day Battery Take-back Event
DESCRIPTION:Join us in Streamwood\, IL for a fun\, free battery take-back event and help keep your community safe from battery fires!
URL:https://wasterecycling.org/event/woodsy-x-streamwood-environmental-education-day-battery-take-back-event/
LOCATION:Village Hall Parking Lot – Streamwood\, IL
ATTACH;FMTTYPE=image/png:https://wasterecycling.org/wp-content/uploads/2025/10/Copy-of-WoodsOwlLogo_Color-1.png
END:VEVENT
BEGIN:VEVENT
DTSTART;TZID=America/New_York:20260428T100000
DTEND;TZID=America/New_York:20260428T140000
DTSTAMP:20260419T205604
CREATED:20260414T202203Z
LAST-MODIFIED:20260414T202204Z
UID:11774-1777370400-1777384800@wasterecycling.org
SUMMARY:Woodsy Battery Take-Back Event at Catholic University
DESCRIPTION:Join us in Washington\, DC\, at Catholic University\, for a free battery take-back event with Woodsy Owl! Bring the whole family to learn about battery safety\, proper disposal\, and the simple steps you can take to keep your community safe from battery fires.
URL:https://wasterecycling.org/event/woodsy-battery-take-back-event-at-catholic-university/
LOCATION:Edward J. Pryzbyla University Center – Washington\, DC
ATTACH;FMTTYPE=image/png:https://wasterecycling.org/wp-content/uploads/2025/10/Copy-of-WoodsOwlLogo_Color-1.png
END:VEVENT
BEGIN:VEVENT
DTSTART;TZID=America/New_York:20260429T050000
DTEND;TZID=America/New_York:20260429T103000
DTSTAMP:20260419T205604
CREATED:20260129T023722Z
LAST-MODIFIED:20260327T053614Z
UID:11534-1777438800-1777458600@wasterecycling.org
SUMMARY:Kentucky Chapter's Inaugural Bluegrass Clay Classic
DESCRIPTION:Join the NWRA Kentucky Chapter at Elk Creek Hunt Club for a day of networking\, friendly competition\, and industry connection at the annual Sporting Clays Classic. Set in the rolling hills of Kentucky\, the event features a professionally designed course\, chapter meeting\, lunch\, and awards reception — offering waste and recycling professionals of all experience levels a relaxed outdoor setting to build relationships and support advocacy efforts across the Bluegrass State.
URL:https://wasterecycling.org/event/kentucky-spring-meeting-and-shooting-event/
LOCATION:Elk Creek Hunt Club – Owenton\, KY
ATTACH;FMTTYPE=image/jpeg:https://wasterecycling.org/wp-content/uploads/2025/09/placeholder.jpg
ORGANIZER;CN="Kentucky Chapter":MAILTO:kevans@wasterecycling.org
END:VEVENT
BEGIN:VEVENT
DTSTART;TZID=America/New_York:20260429T080000
DTEND;TZID=America/New_York:20260429T170000
DTSTAMP:20260419T205604
CREATED:20260414T204027Z
LAST-MODIFIED:20260414T210209Z
UID:11777-1777449600-1777482000@wasterecycling.org
SUMMARY:Woodsy SW DC Battery Take-Back
DESCRIPTION:Join us at L’Enfant Plaza station in Washington\, DC\, for a free battery take-back event with Woodsy Owl! Bring the whole family to learn about battery safety\, proper disposal\, and the simple steps you can take to keep your community safe from battery fires.
URL:https://wasterecycling.org/event/woodsy-sw-dc-battery-take-back/
LOCATION:L’Enfant Plaza Station Entrance A – Washington DC
ATTACH;FMTTYPE=image/png:https://wasterecycling.org/wp-content/uploads/2025/10/Copy-of-WoodsOwlLogo_Color-1.png
END:VEVENT
BEGIN:VEVENT
DTSTART;TZID=America/New_York:20260430T140000
DTEND;TZID=America/New_York:20260430T180000
DTSTAMP:20260419T205604
CREATED:20260414T210920Z
LAST-MODIFIED:20260414T210921Z
UID:11779-1777557600-1777572000@wasterecycling.org
SUMMARY:NoMa REI Co-Op x WoodsyBattery Take-Back Event
DESCRIPTION:Join us at the NoMa REI Co-Op Front Plaza in Washington\, DC\, for a free battery take-back event with Woodsy Owl! Bring the whole family to learn about battery safety\, proper disposal\, and the simple steps you can take to keep your community safe from battery fires.
URL:https://wasterecycling.org/event/noma-rei-co-op-x-woodsybattery-take-back-event/
LOCATION:NoMa REI Co-Op Front Plaza – Washington\, DC
ATTACH;FMTTYPE=image/png:https://wasterecycling.org/wp-content/uploads/2025/10/Copy-of-WoodsOwlLogo_Color-1.png
END:VEVENT
BEGIN:VEVENT
DTSTART;TZID=America/New_York:20260430T170000
DTEND;TZID=America/New_York:20260430T223000
DTSTAMP:20260419T205604
CREATED:20260129T023413Z
LAST-MODIFIED:20260415T070445Z
UID:11531-1777568400-1777588200@wasterecycling.org
SUMMARY:Utah Chapter Meeting & Baseball Networking Event
DESCRIPTION:Join the NWRA Utah Chapter for an evening of networking and baseball. Connect with fellow waste and recycling professionals\, enjoy a pre-game mixer in the VIP lounge\, and watch the game with great seats reserved for our group. The chapter will also host a brief meeting before the game to share updates on chapter and NWRA activities. We look forward to seeing you there!
URL:https://wasterecycling.org/event/utah-chapter-meeting-baseball-networking-event/
LOCATION:Salt Lake Bees Stadium – Salt Lake City\, UT
ATTACH;FMTTYPE=image/jpeg:https://wasterecycling.org/wp-content/uploads/2025/09/placeholder.jpg
ORGANIZER;CN="Utah Chapter":MAILTO:rhering@wasterecycling.org
END:VEVENT
BEGIN:VEVENT
DTSTART;TZID=America/New_York:20260503T120000
DTEND;TZID=America/New_York:20260503T130000
DTSTAMP:20260419T205605
CREATED:20250924T141454Z
LAST-MODIFIED:20251024T001734Z
UID:1040-1777809600-1777813200@wasterecycling.org
SUMMARY:IFAT 2026 American Reception
DESCRIPTION:Meeting Details:\n\n\n\nAmerican Reception at IFAT Munich 2026The Resi at Der PschorrMunich\, Germany \n\n\n\nRegistration or Additional Details:\n\n\n\nRegister Now! \n\n\n\nJoin the National Waste & Recycling Association (NWRA) and our American colleagues from across the industry for an evening of networking\, celebration\, and international connection. \n\n\n\nHeld at The Resi at Der Pschorr on the eve of IFAT Munich\, The American Reception is our chance to showcase how the U.S. waste and recycling industry shows up on the global stage. \n\n\n\nWe are seeking sponsors to help bring The American Reception to life! Sponsorship includes signage\, recognition in event promotions\, and the opportunity to bring colleagues from your company to the reception. Sponsor info here.
URL:https://wasterecycling.org/event/ifat-2026-american-reception/
LOCATION:The Resi at Der Pschorr – Munich\, Germany
ATTACH;FMTTYPE=image/jpeg:https://wasterecycling.org/wp-content/uploads/2025/09/placeholder.jpg
END:VEVENT
BEGIN:VEVENT
DTSTART;TZID=America/New_York:20260507T130000
DTEND;TZID=America/New_York:20260507T140000
DTSTAMP:20260419T205605
CREATED:20260316T132121Z
LAST-MODIFIED:20260316T132122Z
UID:11705-1778158800-1778162400@wasterecycling.org
SUMMARY:HWI Webinar: Check-In with the Centers for Disease Control
DESCRIPTION:MEMBERS ONLY: Join NWRA’s Healthcare Waste Institute (HWI) and the Centers for Disease Control and Prevention (CDC) leaders for a timely virtual briefing on infectious disease response updates and a live dialogue with the healthcare waste management community.
URL:https://wasterecycling.org/event/hwi-webinar-check-in-with-the-centers-for-disease-control/
LOCATION:Webinar
ATTACH;FMTTYPE=image/png:https://wasterecycling.org/wp-content/uploads/2025/09/HWI_logo.png
ORGANIZER;CN="Healthcare Waste Institute (HWI)":MAILTO:sbixby@wasterecycling.org
END:VEVENT
BEGIN:VEVENT
DTSTART;TZID=America/New_York:20260512T030000
DTEND;TZID=America/New_York:20260512T120000
DTSTAMP:20260419T205605
CREATED:20260129T023047Z
LAST-MODIFIED:20260320T025450Z
UID:11529-1778554800-1778587200@wasterecycling.org
SUMMARY:Alabama & Georgia Chapter Meetings & Golf Outing
DESCRIPTION:Save the date! We’re looking forward to bringing our members together for this event. Additional details\, registration information\, and sponsorship opportunities will be shared as we get closer.
URL:https://wasterecycling.org/event/alabama-georgia-chapter-meetings-golf-outing/
LOCATION:Lake Lanier Resort\, Buford\, GA
ATTACH;FMTTYPE=image/jpeg:https://wasterecycling.org/wp-content/uploads/2025/09/placeholder.jpg
ORGANIZER;CN="Georgia Chapter":MAILTO:kevans@wasterecycling.org
END:VEVENT
BEGIN:VEVENT
DTSTART;TZID=America/New_York:20260513T170000
DTEND;TZID=America/New_York:20260513T183000
DTSTAMP:20260419T205605
CREATED:20260416T203620Z
LAST-MODIFIED:20260416T203959Z
UID:11798-1778691600-1778697000@wasterecycling.org
SUMMARY:Ohio Legislative Reception 2026
DESCRIPTION:Join the NWRA Ohio Chapter for networking and engaging conversations with legislators\, key state decision-makers\, industry experts\, and fellow members of the NWRA Ohio Chapter. This is a unique opportunity to discuss important industry issues\, share insights\, and advocate for the sustainable management of the state’s resources.
URL:https://wasterecycling.org/event/ohio-legislative-reception-2026/
LOCATION:Ohio Chamber of Commerce – Columbus\, OH
ATTACH;FMTTYPE=image/jpeg:https://wasterecycling.org/wp-content/uploads/2025/09/placeholder.jpg
ORGANIZER;CN="Ohio Chapter":MAILTO:kevans@wasterecycling.org
END:VEVENT
BEGIN:VEVENT
DTSTART;TZID=America/New_York:20260513T160000
DTEND;TZID=America/New_York:20260513T203000
DTSTAMP:20260419T205605
CREATED:20260307T045302Z
LAST-MODIFIED:20260307T045438Z
UID:11645-1778688000-1778704200@wasterecycling.org
SUMMARY:Illinois Chapter Meeting & Legislative Reception
DESCRIPTION:Please join us in Springfield for the 2026 NWRA Illinois Chapter Meeting and Legislative Reception. \n\n\n\nThe afternoon will begin with a State of the Association update from Michael E. Hoffman\, followed by legislative updates from Chapter Lobbyist Jim Morphew. \n\n\n\nFollowing the meeting\, we will walk to Trish & Mary’s Public House for the Legislative Reception\, co-hosted with the Chemical Industry Council of Illinois (CICI)\, for the opportunity to network with state legislators\, agency officials\, and industry peers. \n\n\n\nWe hope you will join us for an afternoon of industry updates and an evening of networking with the policymakers shaping the future of waste and recycling in Illinois. \n\n\n\nWe look forward to seeing you in Springfield!
URL:https://wasterecycling.org/event/illinois-chapter-meeting-legislative-reception/
LOCATION:The Inn at 835 – Springfield\, IL
ATTACH;FMTTYPE=image/jpeg:https://wasterecycling.org/wp-content/uploads/2025/09/placeholder.jpg
ORGANIZER;CN="Illinois Chapter":MAILTO:pshaffer@wasterecycling.org
END:VEVENT
BEGIN:VEVENT
DTSTART;TZID=America/New_York:20260514T110000
DTEND;TZID=America/New_York:20260514T120000
DTSTAMP:20260419T205605
CREATED:20260206T092811Z
LAST-MODIFIED:20260206T094852Z
UID:11583-1778756400-1778760000@wasterecycling.org
SUMMARY:Struck-By Prevention: Managing Vehicle-Pedestrian Interactions in Waste and Recycling Facilities Webinar
DESCRIPTION:Vehicle-pedestrian incidents represent one of the leading causes of fatalities in waste and recycling operations. With heavy equipment\, commercial trucks and workers often occupying the same space\, the potential for catastrophic struck-by incidents is ever-present. This webinar provides comprehensive strategies for separating people from moving vehicles and managing interactions where separation is unavoidable\, such as on landfill working faces\, tipping floors\, scale houses and yard operations. We cover site design considerations\, traffic control plans\, technology solutions (i.e.\, proximity detection\, cameras and alarms)\, administrative controls and the critical human factors that contribute to these incidents. Learn from incident investigations\, explore best practices from high-performing facilities and discover how to conduct effective risk assessments for your specific operational environment.
URL:https://wasterecycling.org/event/struck-by-prevention-managing-vehicle-pedestrian-interactions-in-waste-and-recycling-facilities-webinar/
LOCATION:Webinar
ATTACH;FMTTYPE=image/jpeg:https://wasterecycling.org/wp-content/uploads/2026/02/safety-first-webinar-website-header-e1770130002232.jpg
END:VEVENT
BEGIN:VEVENT
DTSTART;TZID=America/New_York:20260519T190000
DTEND;TZID=America/New_York:20260521T185959
DTSTAMP:20260419T205605
CREATED:20251202T084844Z
LAST-MODIFIED:20260416T205038Z
UID:9947-1779217200-1779389999@wasterecycling.org
SUMMARY:VWIA Chapter Meeting & Golf
DESCRIPTION:Please join us for our VWIA Chapter Meeting on May 20 and our 2026 VWIA Mike Dobson Open on May 21 at the Golden Horseshoe Golf Club – Green Course – home of the award-winning Robert Trent Jones\, Sr. and Rees Jones designed golf courses!   \n\n\n\nThis is the perfect location to get together with your industry colleagues and enjoy some time on the course.  \n\n\n\nThis Golf Outing is Open to Both Members and Non-Members of NWRA. 
URL:https://wasterecycling.org/event/vwia-chapter-meeting-golf/
LOCATION:Williamsburg Lodge – Williamsburg\, VA
ATTACH;FMTTYPE=image/jpeg:https://wasterecycling.org/wp-content/uploads/2025/09/placeholder.jpg
ORGANIZER;CN="Virginia Waste Industry Association":MAILTO:tphillips@wasterecycling.org
END:VEVENT
BEGIN:VEVENT
DTSTART;TZID=America/New_York:20260526T190000
DTEND;TZID=America/New_York:20260527T185959
DTSTAMP:20260419T205605
CREATED:20251202T085418Z
LAST-MODIFIED:20260317T080809Z
UID:9949-1779822000-1779908399@wasterecycling.org
SUMMARY:Ohio 3rd Annual Trash Can Open
DESCRIPTION:Save the date for one of our favorite annual traditions! More details about tee times\, sponsorships\, and player registration will be announced soon.
URL:https://wasterecycling.org/event/ohio-3rd-annual-trash-can-open/
LOCATION:Golf Club of Dublin – Dublin\, OH
ATTACH;FMTTYPE=image/jpeg:https://wasterecycling.org/wp-content/uploads/2025/09/placeholder.jpg
ORGANIZER;CN="Ohio Chapter":MAILTO:kevans@wasterecycling.org
END:VEVENT
BEGIN:VEVENT
DTSTART;TZID=America/New_York:20260608T030000
DTEND;TZID=America/New_York:20260610T120000
DTSTAMP:20260419T205605
CREATED:20250924T141323Z
LAST-MODIFIED:20251024T003348Z
UID:1039-1780887600-1781092800@wasterecycling.org
SUMMARY:Waste Leadership Summit 
DESCRIPTION:
URL:https://wasterecycling.org/event/waste-leadership-summit/
LOCATION:Washington Hilton – Washington D.C.
ATTACH;FMTTYPE=image/jpeg:https://wasterecycling.org/wp-content/uploads/2025/09/543037143_17858222889488442_8125973742131831511_n.jpg
END:VEVENT
BEGIN:VEVENT
DTSTART;TZID=America/New_York:20260610T123000
DTEND;TZID=America/New_York:20260610T150000
DTSTAMP:20260419T205605
CREATED:20251028T223753Z
LAST-MODIFIED:20260122T051438Z
UID:9678-1781094600-1781103600@wasterecycling.org
SUMMARY:Annual Awards Gala
DESCRIPTION:Join us for an unforgettable evening as we celebrate the association’s outstanding leaders. \n\n\n\nOur annual awards gala\, set against the stunning backdrop of the Washington Hilton\, will honor the Drivers\, Operators\, and Technician of the Year and the NWRA Hall of Fame Class of 2026.
URL:https://wasterecycling.org/event/annual-awards-gala/
LOCATION:Washington Hilton – Washington D.C.
ATTACH;FMTTYPE=image/png:https://wasterecycling.org/wp-content/uploads/2025/10/Gala-Logo_FINAL_black-scaled.png
END:VEVENT
BEGIN:VEVENT
DTSTART;TZID=America/New_York:20260610T190000
DTEND;TZID=America/New_York:20260611T185959
DTSTAMP:20260419T205605
CREATED:20260316T131555Z
LAST-MODIFIED:20260320T030841Z
UID:11703-1781118000-1781204399@wasterecycling.org
SUMMARY:HWI Summer Summit
DESCRIPTION:Join other HWI members in-person for a full day of healthcare waste content at Alston & Bird\, 950 F St. NW\, Washington\, DC.  The registration site will be live by March 30. More information about topics and speakers is coming soon.If your company is interested in sponsoring a meal or break\, please contact Sara Bixby at sbixby@wasterecycling.org for details.  
URL:https://wasterecycling.org/event/hwi-summer-summit/
LOCATION:Alston & Bird\, LLC Office – Washington D.C.
ATTACH;FMTTYPE=image/png:https://wasterecycling.org/wp-content/uploads/2025/09/HWI_logo.png
ORGANIZER;CN="Healthcare Waste Institute (HWI)":MAILTO:sbixby@wasterecycling.org
END:VEVENT
BEGIN:VEVENT
DTSTART;TZID=America/New_York:20260611T030000
DTEND;TZID=America/New_York:20260611T110000
DTSTAMP:20260419T205605
CREATED:20260320T014002Z
LAST-MODIFIED:20260320T025635Z
UID:11713-1781146800-1781175600@wasterecycling.org
SUMMARY:NWRA D.C. Legislative Fly-In 2026
DESCRIPTION:
URL:https://wasterecycling.org/event/nwra-dc-legislative-fly-in-2026/
LOCATION:U.S. Capitol – Washington\, D.C.
END:VEVENT
BEGIN:VEVENT
DTSTART;TZID=America/New_York:20260616T190000
DTEND;TZID=America/New_York:20260617T185959
DTSTAMP:20260419T205605
CREATED:20251202T085707Z
LAST-MODIFIED:20260303T041221Z
UID:9951-1781636400-1781722799@wasterecycling.org
SUMMARY:36th Annual Illinois Trash Can Open
DESCRIPTION:Save the date for one of our favorite annual traditions! 7:00am CDT Check-in9:00am CDT ShotgunMore details about sponsorships\, and player registration will be announced soon.
URL:https://wasterecycling.org/event/36th-annual-illinois-trash-can-open/
LOCATION:Bloomingdale Golf Club – Bloomingdale\, IL
ATTACH;FMTTYPE=image/jpeg:https://wasterecycling.org/wp-content/uploads/2025/09/placeholder.jpg
ORGANIZER;CN="Illinois Chapter":MAILTO:pshaffer@wasterecycling.org
END:VEVENT
BEGIN:VEVENT
DTSTART;TZID=America/New_York:20260621T190000
DTEND;TZID=America/New_York:20260622T185959
DTSTAMP:20260419T205605
CREATED:20251202T090034Z
LAST-MODIFIED:20260303T041407Z
UID:9953-1782068400-1782154799@wasterecycling.org
SUMMARY:34th Annual MN Trash Can Open
DESCRIPTION:Save the date for one of our favorite annual traditions! 8:00am CDT Check-in10:00am CDT ShotgunMore details about sponsorships\, and player registration will be announced soon.
URL:https://wasterecycling.org/event/34th-annual-mn-trash-can-open/
LOCATION:Green Haven Golf Course – Anoka\, MN
ATTACH;FMTTYPE=image/jpeg:https://wasterecycling.org/wp-content/uploads/2025/09/placeholder.jpg
ORGANIZER;CN="Minnesota Chapter":MAILTO:pshaffer@wasterecycling.org
END:VEVENT
BEGIN:VEVENT
DTSTART;TZID=America/New_York:20260623T120000
DTEND;TZID=America/New_York:20260623T150000
DTSTAMP:20260419T205605
CREATED:20260129T031540Z
LAST-MODIFIED:20260415T063253Z
UID:11536-1782216000-1782226800@wasterecycling.org
SUMMARY:MD Crab Feast
DESCRIPTION:Crack open a good time at the 2026 Maryland Chapter Crab Feast!Join us on the Eastern Shore for an evening of crab cracking\, conversation\, and coastal views! Visit the website to register.
URL:https://wasterecycling.org/event/md-crab-feast/
LOCATION:Harris Crab House – Grasonville\, MD
ATTACH;FMTTYPE=image/jpeg:https://wasterecycling.org/wp-content/uploads/2025/09/placeholder.jpg
ORGANIZER;CN="Maryland Chapter":MAILTO:ldubuque@wasterecycling.org
END:VEVENT
BEGIN:VEVENT
DTSTART;TZID=America/New_York:20260628T190000
DTEND;TZID=America/New_York:20260629T185959
DTSTAMP:20260419T205605
CREATED:20251202T090313Z
LAST-MODIFIED:20251202T090315Z
UID:9955-1782673200-1782759599@wasterecycling.org
SUMMARY:Rocky Mountain Chapter Golf Tournament
DESCRIPTION:Save the date for one of our favorite annual traditions! More details about tee times\, sponsorships\, and player registration will be announced soon.
URL:https://wasterecycling.org/event/rocky-mountain-chapter-golf-tournament/
LOCATION:Blackstone Country Club – Denver\, CO
ATTACH;FMTTYPE=image/jpeg:https://wasterecycling.org/wp-content/uploads/2025/09/placeholder.jpg
ORGANIZER;CN="Rocky Mountain Chapter":MAILTO:rhering@wasterecycling.org
END:VEVENT
BEGIN:VEVENT
DTSTART;TZID=America/New_York:20260714T190000
DTEND;TZID=America/New_York:20260716T185959
DTSTAMP:20260419T205605
CREATED:20251202T090714Z
LAST-MODIFIED:20260303T041826Z
UID:9957-1784055600-1784228399@wasterecycling.org
SUMMARY:Carolinas Meeting & Golf Outing
DESCRIPTION:Save the date! Join us for a chapter meeting and golf outing that brings together members for both business and networking.  \n\n\n\n\n\nWed. July 153:00PM Chapter Meeting5:00PM Reception \n\n\n\n\n\nThurs. July 168:00AM Shotgun  \n\n\n\n\n\nAdditional event registration and information will be available soon.
URL:https://wasterecycling.org/event/carolinas-meeting-golf-outing/
LOCATION:Pinehurst Resort – Pinehurst\, NC
ATTACH;FMTTYPE=image/jpeg:https://wasterecycling.org/wp-content/uploads/2025/09/placeholder.jpg
ORGANIZER;CN="Carolinas Chapter":MAILTO:kevans@wasterecycling.org
END:VEVENT
BEGIN:VEVENT
DTSTART;TZID=America/New_York:20260823T190000
DTEND;TZID=America/New_York:20260825T185959
DTSTAMP:20260419T205605
CREATED:20251122T040429Z
LAST-MODIFIED:20251122T040431Z
UID:9927-1787511600-1787684399@wasterecycling.org
SUMMARY:Northeast Invitational
DESCRIPTION:More details to come.
URL:https://wasterecycling.org/event/northeast-invitational-2/
LOCATION:Sonny’s Place and GreatHorse – Hampden\, MA
ATTACH;FMTTYPE=image/jpeg:https://wasterecycling.org/wp-content/uploads/2025/11/Northeast-Invitational-Logo_DRAFT.jpg
END:VEVENT
BEGIN:VEVENT
DTSTART;TZID=America/New_York:20260826T190000
DTEND;TZID=America/New_York:20260827T185959
DTSTAMP:20260419T205605
CREATED:20251202T091035Z
LAST-MODIFIED:20260129T040236Z
UID:9959-1787770800-1787857199@wasterecycling.org
SUMMARY:Tennessee Annual Meeting and Shooting Competition
DESCRIPTION:Save the date! We’re looking forward to bringing our members together for this event. Additional details\, registration information\, and sponsorship opportunities will be shared as we get closer.
URL:https://wasterecycling.org/event/tennessee-annual-meeting-and-shooting-competition/
LOCATION:Nashville Gun Club – Nashville\, TN
ATTACH;FMTTYPE=image/jpeg:https://wasterecycling.org/wp-content/uploads/2025/09/placeholder.jpg
ORGANIZER;CN="Tennessee Chapter":MAILTO:kevans@wasterecycling.org
END:VEVENT
BEGIN:VEVENT
DTSTART;TZID=America/New_York:20260902T030000
DTEND;TZID=America/New_York:20260903T120000
DTSTAMP:20260419T205605
CREATED:20260326T045931Z
LAST-MODIFIED:20260326T045932Z
UID:11726-1788318000-1788436800@wasterecycling.org
SUMMARY:EREF Fall Classic & Networking Event
DESCRIPTION:
URL:https://wasterecycling.org/event/eref-fall-classic-networking-event/
LOCATION:Eaglewood Resort & Spa\, Chicago\, Illinois
END:VEVENT
BEGIN:VEVENT
DTSTART;TZID=America/New_York:20260908T190000
DTEND;TZID=America/New_York:20260910T185959
DTSTAMP:20260419T205605
CREATED:20251202T091436Z
LAST-MODIFIED:20260129T040036Z
UID:9961-1788894000-1789066799@wasterecycling.org
SUMMARY:Indiana Annual Meeting and Golf Outing
DESCRIPTION:Save the date! This chapter event will include our annual meeting followed by a golf outing. Full details\, schedule\, and registration information will be shared as we get closer.
URL:https://wasterecycling.org/event/indiana-annual-meeting-and-golf-outing/
LOCATION:Columbia Club/ Twin Bridges – Indianapolis\, IN
ATTACH;FMTTYPE=image/jpeg:https://wasterecycling.org/wp-content/uploads/2025/09/placeholder.jpg
ORGANIZER;CN="Indiana Chapter":MAILTO:kevans@wasterecycling.org
END:VEVENT
BEGIN:VEVENT
DTSTART;TZID=America/New_York:20260910T190000
DTEND;TZID=America/New_York:20260911T185959
DTSTAMP:20260419T205605
CREATED:20251202T091739Z
LAST-MODIFIED:20251202T091741Z
UID:9964-1789066800-1789153199@wasterecycling.org
SUMMARY:3rd Annual KS and MO Trash Can Open
DESCRIPTION:Save the date for one of our favorite annual traditions! More details about tee times\, sponsorships\, and player registration will be announced soon.
URL:https://wasterecycling.org/event/3rd-annual-ks-and-mo-trash-can-open/
LOCATION:Drumm Farm Golf Club – Independence\, MO
ATTACH;FMTTYPE=image/jpeg:https://wasterecycling.org/wp-content/uploads/2025/09/placeholder.jpg
ORGANIZER;CN="Missouri Chapter":MAILTO:pshaffer@wasterecycling.org
END:VEVENT
BEGIN:VEVENT
DTSTART;TZID=America/New_York:20260922T190000
DTEND;TZID=America/New_York:20260924T185959
DTSTAMP:20260419T205605
CREATED:20251202T092130Z
LAST-MODIFIED:20260115T034346Z
UID:9967-1790103600-1790276399@wasterecycling.org
SUMMARY:Heartland Conference
DESCRIPTION:Save the date! This chapter event will include our annual meeting followed by a golf outing. Full details\, schedule\, and registration information will be shared as we get closer.
URL:https://wasterecycling.org/event/heartland-conference/
LOCATION:Shangri-La Resort – Aftron\, OK
ATTACH;FMTTYPE=image/jpeg:https://wasterecycling.org/wp-content/uploads/2025/09/placeholder.jpg
ORGANIZER;CN="Oklahoma Chapter":MAILTO:rhering@wasterecycling.org
END:VEVENT
END:VCALENDAR